﻿BEGIN:VCALENDAR
VERSION:2.0
PRODID:-//DG Suchtmedizin - ECPv6.15.18//NONSGML v1.0//EN
CALSCALE:GREGORIAN
METHOD:PUBLISH
X-WR-CALNAME:DG Suchtmedizin
X-ORIGINAL-URL:https://dgsuchtmedizin.de
X-WR-CALDESC:Veranstaltungen für DG Suchtmedizin
REFRESH-INTERVAL;VALUE=DURATION:PT1H
X-Robots-Tag:noindex
X-PUBLISHED-TTL:PT1H
BEGIN:VTIMEZONE
TZID:Europe/Paris
BEGIN:DAYLIGHT
TZOFFSETFROM:+0100
TZOFFSETTO:+0200
TZNAME:CEST
DTSTART:20240331T010000
END:DAYLIGHT
BEGIN:STANDARD
TZOFFSETFROM:+0200
TZOFFSETTO:+0100
TZNAME:CET
DTSTART:20241027T010000
END:STANDARD
BEGIN:DAYLIGHT
TZOFFSETFROM:+0100
TZOFFSETTO:+0200
TZNAME:CEST
DTSTART:20250330T010000
END:DAYLIGHT
BEGIN:STANDARD
TZOFFSETFROM:+0200
TZOFFSETTO:+0100
TZNAME:CET
DTSTART:20251026T010000
END:STANDARD
BEGIN:DAYLIGHT
TZOFFSETFROM:+0100
TZOFFSETTO:+0200
TZNAME:CEST
DTSTART:20260329T010000
END:DAYLIGHT
BEGIN:STANDARD
TZOFFSETFROM:+0200
TZOFFSETTO:+0100
TZNAME:CET
DTSTART:20261025T010000
END:STANDARD
END:VTIMEZONE
BEGIN:VEVENT
DTSTART;TZID=Europe/Paris:20251106T080000
DTEND;TZID=Europe/Paris:20251108T180000
DTSTAMP:20260420T165629
CREATED:20251012T083154Z
LAST-MODIFIED:20251012T114633Z
UID:10000001-1762416000-1762624800@dgsuchtmedizin.de
SUMMARY:Jahreskongress der DGSuchtmedizin e.V. 2025
DESCRIPTION:
URL:https://dgsuchtmedizin.de/event/jahreskongress-der-dgsuchtmedizin-e-v-2025
LOCATION:PentaHotel Leipzig\, Großer Brockhaus 3\, Leipzig\, 04103
ATTACH;FMTTYPE=image/png:https://dgsuchtmedizin.de/wp-content/uploads/2023/03/DGS-Logo_Kurz_4c300ppi.png
ORGANIZER;CN="DGSuchtmedizin e.V.":MAILTO:info@dgsuchtmedizin.de
END:VEVENT
END:VCALENDAR